BEGIN:VCALENDAR
VERSION:2.0
PRODID:-//Showgrounds Equestrian Centre - ECPv5.0.0//NONSGML v1.0//EN
CALSCALE:GREGORIAN
METHOD:PUBLISH
X-WR-CALNAME:Showgrounds Equestrian Centre
X-ORIGINAL-URL:http://www.showgroundsequestrian.com.au
X-WR-CALDESC:Events for Showgrounds Equestrian Centre
BEGIN:VTIMEZONE
TZID:Australia/Perth
BEGIN:STANDARD
TZOFFSETFROM:+0800
TZOFFSETTO:+0800
TZNAME:AWST
DTSTART:20190101T000000
END:STANDARD
END:VTIMEZONE
BEGIN:VEVENT
DTSTART;TZID=Australia/Perth:20191014T080000
DTEND;TZID=Australia/Perth:20191215T170000
DTSTAMP:20200302T135652
CREATED:20190828T071216Z
LAST-MODIFIED:20190828T071216Z
UID:697-1571040000-1576429200@www.showgroundsequestrian.com.au
SUMMARY:Term 4 2019 - 14th October to 15th December 2019
DESCRIPTION: \n
URL:http://www.showgroundsequestrian.com.au/index.php/event/term-4-2019-14th-october-to-15th-december-2019/
LOCATION:Showgrounds Equestrian Centre\, Graylands Road\, Claremont\, Western Australia\, 6010\, Australia
ORGANIZER;CN="Showgrounds%20Equestrian%20Centre":MAILTO:info@showgroundsequestrian.com.au
END:VEVENT
END:VCALENDAR